BEGIN:VCALENDAR
VERSION:2.0
PRODID:-//194.56.190.58//NONSGML kigkonsult.se iCalcreator 2.41.92//
CALSCALE:GREGORIAN
METHOD:PUBLISH
UID:64663330-3439-4733-b639-613163393430
X-WR-CALNAME:USV-Kalender-Allgemein
X-WR-CALDESC:USV Köstendorf Kalender Allgemein
X-WR-TIMEZONE:Europe/Vienna
BEGIN:VEVENT
UID:35356638-6431-4233-a238-323037633662
DTSTAMP:20260420T180855Z
DTSTART:20240120T110000
DTEND:20240120T140000
LOCATION:Sportheim
RRULE:FREQ=WEEKLY
SUMMARY:Samstags-Stammtisch
END:VEVENT
BEGIN:VEVENT
UID:33636236-3766-4334-a235-373964646535
DTSTAMP:20260420T180855Z
DTSTART:20260124T090000
DTEND:20260124T130000
LOCATION:5110 Oberndorf\, Franz-Joseph-Mohr-Straße 4a
SUMMARY:U8 Hallenturnier | Oberndorf
END:VEVENT
BEGIN:VEVENT
UID:37633236-6466-4662-b633-643066666535
DTSTAMP:20260420T180855Z
DTSTART:20260125T090000
DTEND:20260125T130000
LOCATION:5110 Oberndorf\, Franz-Joseph Mohr Straße 4a
SUMMARY:U12 | Hallenturnier Oberndorf
END:VEVENT
BEGIN:VEVENT
UID:35333935-3866-4563-b237-383965633465
DTSTAMP:20260420T180855Z
DTSTART:20260126T180000
DTEND:20260126T230000
LOCATION:Sportheim
SUMMARY:private Veranstaltung
END:VEVENT
BEGIN:VEVENT
UID:33633461-3034-4866-b836-343231393637
DTSTAMP:20260420T180855Z
DTSTART:20260127T190000
DTEND:20260127T230000
LOCATION:Sportheim
SUMMARY:Ballsitzung
END:VEVENT
BEGIN:VEVENT
UID:63336533-3739-4662-a664-616331346539
DTSTAMP:20260420T180855Z
DTSTART:20260131T140000
DTEND:20260201T030000
LOCATION:Sportheim
SUMMARY:private Feier
END:VEVENT
BEGIN:VEVENT
UID:37386139-3631-4334-a232-373339346663
DTSTAMP:20260420T180855Z
DTSTART:20260207T200000
DTEND:20260208T000000
SUMMARY:Sportlerball
END:VEVENT
BEGIN:VEVENT
UID:37663133-3932-4133-b935-666432346666
DTSTAMP:20260420T180855Z
DTSTART:20260222T080000
DTEND:20260222T090000
LOCATION:Sporthalle Walserfeld\, Schulstraße 15\, 5071 Wals-Siezenheim
SUMMARY:U9 | Hallenturnier HSV Wals
END:VEVENT
BEGIN:VEVENT
UID:64653433-3035-4064-a630-313335353236
DTSTAMP:20260420T180855Z
DTSTART:20260228T170000
DTEND:20260228T234500
LOCATION:Sportheim
SUMMARY:Jahreshauptversammlung Imker
END:VEVENT
BEGIN:VEVENT
UID:63656466-3664-4465-b131-316562666534
DTSTAMP:20260420T180855Z
DTSTART:20260317T180000
DTEND:20260317T220000
LOCATION:Sportheim
SUMMARY:SFV Schiedsrichter Schulung
END:VEVENT
BEGIN:VEVENT
UID:37656431-6337-4964-b762-666461333536
DTSTAMP:20260420T180855Z
DTSTART:20260323T190000
DTEND:20260323T220000
LOCATION:Sportheim
SUMMARY:Vereinsabstimmung
END:VEVENT
BEGIN:VEVENT
UID:61323065-3634-4434-a264-643831366133
DTSTAMP:20260420T180855Z
DTSTART;VALUE=DATE:20260619
DTEND;VALUE=DATE:20260621
LOCATION:Sportplatz gesperrt!
SUMMARY:125 Jahre Freiwillige Feuerwehr Köstendorf
END:VEVENT
BEGIN:VEVENT
UID:32323963-3963-4335-b662-636333356631
DTSTAMP:20260420T180855Z
DTSTART:20260626T170000
DTEND:20260626T230000
LOCATION:Sportplatz
SUMMARY:Senioren: Hans-Lechner Gedenkturnier ?
END:VEVENT
BEGIN:VEVENT
UID:38663161-3338-4334-a164-663139346631
DTSTAMP:20260420T180855Z
DTSTART:20260627T090000
DTEND:20260627T180000
LOCATION:Sportplatz
SUMMARY:Hobbyturnier SK-Lation
END:VEVENT
BEGIN:VEVENT
UID:33663136-6238-4933-a632-353432633961
DTSTAMP:20260420T180855Z
DTSTART:20260717T080000
DTEND:20260717T150000
SUMMARY:FitUnion - Sommerolympiade (VS)
END:VEVENT
BEGIN:VEVENT
UID:64636436-6336-4763-b039-396132336536
DTSTAMP:20260420T180855Z
DTSTART:20260915T180000
DTEND:20260915T210000
LOCATION:Sportheim
SUMMARY:SFV Schiedsrichter Schulung
END:VEVENT
BEGIN:VEVENT
UID:38313562-6436-4235-b534-306564383366
DTSTAMP:20260420T180855Z
DTSTART:20261013T180000
DTEND:20261013T210000
LOCATION:Sportheim
SUMMARY:SFV Schiedsrichter Schulung
END:VEVENT
BEGIN:VEVENT
UID:32386339-6633-4037-a264-326136663662
DTSTAMP:20260420T180855Z
DTSTART:20270130T200000
DTEND:20270130T233000
SUMMARY:Sportlerball
END:VEVENT
BEGIN:VEVENT
UID:31366261-3738-4761-b331-653732353233
DTSTAMP:20260420T180855Z
DTSTART:20250801T183000
DTEND:20250801T201500
LOCATION:Köstendorf Norbert-Loindl-Arena (Matthäus-Wieder-Straße 4\, 5203 K
 östendorf)
SUMMARY:KM: USV Köstendorf : USV St. Georgen
END:VEVENT
BEGIN:VEVENT
UID:34346330-3431-4762-b863-323863653561
DTSTAMP:20260420T180855Z
DTSTART:20250808T183000
DTEND:20250808T201500
LOCATION:Köstendorf Norbert-Loindl-Arena (Matthäus-Wieder-Straße 4\, 5203 K
 östendorf)
SUMMARY:KM: USV Köstendorf : USK Hof
END:VEVENT
BEGIN:VEVENT
UID:65316638-6163-4436-b861-303166303332
DTSTAMP:20260420T180855Z
DTSTART:20250816T143000
DTEND:20250816T161500
LOCATION:Kostad Arena - Fuschl am See (Dorfstraße 43\, 5330 Fuschl)
SUMMARY:KM: USV Fuschl : USV Köstendorf
END:VEVENT
BEGIN:VEVENT
UID:66356132-6264-4937-b139-353263623434
DTSTAMP:20260420T180855Z
DTSTART:20250823T170000
DTEND:20250823T184500
LOCATION:Köstendorf Norbert-Loindl-Arena (Matthäus-Wieder-Straße 4\, 5203 K
 östendorf)
SUMMARY:KM: USV Köstendorf : USK St. Koloman
END:VEVENT
BEGIN:VEVENT
UID:39333665-3931-4438-a137-336261346136
DTSTAMP:20260420T180855Z
DTSTART:20250829T181500
DTEND:20250829T200000
LOCATION:Walserfeld (Schwarzenbergkaserne\, 5071 Wals)
SUMMARY:KM: Heeres SV Wals : USV Köstendorf
END:VEVENT
BEGIN:VEVENT
UID:30663833-3633-4531-b066-363431356438
DTSTAMP:20260420T180855Z
DTSTART:20250905T183000
DTEND:20250905T201500
LOCATION:Köstendorf Norbert-Loindl-Arena (Matthäus-Wieder-Straße 4\, 5203 K
 östendorf)
SUMMARY:KM: USV Köstendorf : USC Faistenau
END:VEVENT
BEGIN:VEVENT
UID:66383431-3733-4362-b031-323866313765
DTSTAMP:20260420T180855Z
DTSTART:20250914T160000
DTEND:20250914T174500
LOCATION:Koni Laimer Arena (Steinfeldstraße 11\, 5350 Abersee)
SUMMARY:KM: USC Abersee : USV Köstendorf
END:VEVENT
BEGIN:VEVENT
UID:34646230-3835-4631-b833-363530653639
DTSTAMP:20260420T180855Z
DTSTART:20250920T160000
DTEND:20250920T174500
LOCATION:Köstendorf Norbert-Loindl-Arena (Matthäus-Wieder-Straße 4\, 5203 K
 östendorf)
SUMMARY:KM: USV Köstendorf : UFC Hallein Juniors
END:VEVENT
BEGIN:VEVENT
UID:38636135-6264-4131-b532-383662383330
DTSTAMP:20260420T180855Z
DTSTART:20250927T140000
DTEND:20250927T154500
LOCATION:Gneis - Walter Rembart Sportanlage (Sternhofweg 70\, 5020 Salzburg
 )
SUMMARY:KM: USK Gneis : USV Köstendorf
END:VEVENT
BEGIN:VEVENT
UID:30323862-3038-4234-a132-366339656636
DTSTAMP:20260420T180855Z
DTSTART:20251005T110000
DTEND:20251005T124500
LOCATION:Köstendorf Norbert-Loindl-Arena (Matthäus-Wieder-Straße 4\, 5203 K
 östendorf)
SUMMARY:KM: USV Köstendorf : USC fahr(T)raum Mattsee
END:VEVENT
BEGIN:VEVENT
UID:35653763-6362-4737-b336-613765656231
DTSTAMP:20260420T180855Z
DTSTART:20251010T183000
DTEND:20251010T201500
LOCATION:Köstendorf Norbert-Loindl-Arena (Matthäus-Wieder-Straße 4\, 5203 K
 östendorf)
SUMMARY:KM: USV Köstendorf : SV Nußdorf/H.
END:VEVENT
BEGIN:VEVENT
UID:35333662-6566-4531-b835-343331363031
DTSTAMP:20260420T180855Z
DTSTART:20251019T133000
DTEND:20251019T151500
LOCATION:Oberalm (Kahlspergstraße 14\, 5411 Oberalm)
SUMMARY:KM: 1. Oberalmer SV : USV Köstendorf
END:VEVENT
BEGIN:VEVENT
UID:62346262-3761-4535-b036-653337663633
DTSTAMP:20260420T180855Z
DTSTART:20251024T183000
DTEND:20251024T201500
LOCATION:Köstendorf Norbert-Loindl-Arena (Matthäus-Wieder-Straße 4\, 5203 K
 östendorf)
SUMMARY:KM: USV Köstendorf : USV Plainfeld
END:VEVENT
BEGIN:VEVENT
UID:36643836-3864-4538-b034-666438353939
DTSTAMP:20260420T180855Z
DTSTART:20251102T133000
DTEND:20251102T151500
LOCATION:Strobl (Nr. 286\, 5350 Strobl)
SUMMARY:KM: SK Strobl : USV Köstendorf
END:VEVENT
BEGIN:VEVENT
UID:31643131-3062-4762-a130-376337616234
DTSTAMP:20260420T180855Z
DTSTART:20251108T140000
DTEND:20251108T154500
LOCATION:Hof (Sportplatzstraße 15\, 5322 Hof)
SUMMARY:KM: USK Hof : USV Köstendorf
END:VEVENT
BEGIN:VEVENT
UID:33386239-6165-4337-b732-656261343132
DTSTAMP:20260420T180855Z
DTSTART:20260130T183000
DTEND:20260130T201500
LOCATION:Obertrum (Schulstraße 14a\, 5162 Obertrum)
SUMMARY:KM: USK Obertrum : USV Köstendorf
END:VEVENT
BEGIN:VEVENT
UID:65666664-3535-4134-b236-353137323338
DTSTAMP:20260420T180855Z
DTSTART:20260221T100000
DTEND:20260221T114500
LOCATION:Bürmoos - Kunstrasen (Glasbläser Promenade 5\, 5111 Bürmoos)
SUMMARY:KM: USV St. Georgen : USV Köstendorf
END:VEVENT
BEGIN:VEVENT
UID:32633463-6237-4063-b535-383864333038
DTSTAMP:20260420T180855Z
DTSTART:20260227T190000
DTEND:20260227T204500
LOCATION:Köstendorf Norbert-Loindl-Arena (Matthäus-Wieder-Straße 4\, 5203 K
 östendorf)
SUMMARY:KM: USV Köstendorf : SV teampool Seekirchen 1c
END:VEVENT
BEGIN:VEVENT
UID:31393138-3636-4331-b363-303537396232
DTSTAMP:20260420T180855Z
DTSTART:20260301T144500
DTEND:20260301T163000
LOCATION:Seekirchen (Sportzentrum 1\, 5201 Seekirchen)
SUMMARY:KM: Abgesagt - SV teampool Seekirchen 1c : USV Köstendorf
END:VEVENT
BEGIN:VEVENT
UID:33616437-3436-4061-b434-653963643638
DTSTAMP:20260420T180855Z
DTSTART:20260303T190000
DTEND:20260303T204500
LOCATION:Köstendorf Norbert-Loindl-Arena (Matthäus-Wieder-Straße 4\, 5203 K
 östendorf)
SUMMARY:KM: USV Köstendorf : USK Maximarkt Anif Juniors
END:VEVENT
BEGIN:VEVENT
UID:36313336-3730-4662-a663-373462326135
DTSTAMP:20260420T180855Z
DTSTART:20260307T140000
DTEND:20260307T154500
LOCATION:Anthering - Haunsbergarena (Schmiedingerstraße 8\, 5102 Anthering)
SUMMARY:KM: SV Anthering : USV Köstendorf
END:VEVENT
BEGIN:VEVENT
UID:33666363-3366-4161-b062-383731336138
DTSTAMP:20260420T180855Z
DTSTART:20260313T193000
DTEND:20260313T211500
LOCATION:Köstendorf Norbert-Loindl-Arena (Matthäus-Wieder-Straße 4\, 5203 K
 östendorf)
SUMMARY:KM: USV Köstendorf : FC Kitz Juniors
END:VEVENT
BEGIN:VEVENT
UID:63626465-3134-4537-a561-666130343834
DTSTAMP:20260420T180855Z
DTSTART:20260321T160000
DTEND:20260321T174500
LOCATION:Köstendorf Norbert-Loindl-Arena (Matthäus-Wieder-Straße 4\, 5203 K
 östendorf)
SUMMARY:KM: USV Köstendorf : USV Fuschl
END:VEVENT
BEGIN:VEVENT
UID:36313861-6366-4233-b231-633634616264
DTSTAMP:20260420T180855Z
DTSTART:20260327T183000
DTEND:20260327T201500
LOCATION:St. Koloman - Kunstrasen (Berneggweg 166\, 5423 St. Koloman)
SUMMARY:KM: USK St. Koloman : USV Köstendorf
END:VEVENT
BEGIN:VEVENT
UID:32663933-3961-4361-b738-336232623333
DTSTAMP:20260420T180855Z
DTSTART:20260403T183000
DTEND:20260403T201500
LOCATION:Köstendorf Norbert-Loindl-Arena (Matthäus-Wieder-Straße 4\, 5203 K
 östendorf)
SUMMARY:KM: USV Köstendorf : Heeres SV Wals
END:VEVENT
BEGIN:VEVENT
UID:31333934-3336-4461-a662-613066383264
DTSTAMP:20260420T180855Z
DTSTART:20260412T140000
DTEND:20260412T154500
LOCATION:Faistenau (Stegleitenstraße 20\, 5324 Faistenau)
SUMMARY:KM: USC Faistenau : USV Köstendorf
END:VEVENT
BEGIN:VEVENT
UID:62663035-3733-4366-b862-363762303465
DTSTAMP:20260420T180855Z
DTSTART:20260417T183000
DTEND:20260417T201500
LOCATION:Köstendorf Norbert-Loindl-Arena (Matthäus-Wieder-Straße 4\, 5203 K
 östendorf)
SUMMARY:KM: USV Köstendorf : USC Abersee
END:VEVENT
BEGIN:VEVENT
UID:33666333-3632-4435-b965-663837633461
DTSTAMP:20260420T180855Z
DTSTART:20260425T103000
DTEND:20260425T121500
LOCATION:Hallein Gamp (Pingitzzerkai 22\, 5400 Hallein)
SUMMARY:KM: UFC Hallein Juniors : USV Köstendorf
END:VEVENT
BEGIN:VEVENT
UID:31633831-3161-4331-b936-666638626561
DTSTAMP:20260420T180855Z
DTSTART:20260430T193000
DTEND:20260430T211500
LOCATION:Köstendorf Norbert-Loindl-Arena (Matthäus-Wieder-Straße 4\, 5203 K
 östendorf)
SUMMARY:KM: USV Köstendorf : USK Gneis
END:VEVENT
BEGIN:VEVENT
UID:62333237-3037-4563-b935-623565326266
DTSTAMP:20260420T180855Z
DTSTART:20260509T170000
DTEND:20260509T184500
LOCATION:Mattsee Seestadion (Münsterholzstraße 1\, 5163 Mattsee)
SUMMARY:KM: USC fahr(T)raum Mattsee : USV Köstendorf
END:VEVENT
BEGIN:VEVENT
UID:35613833-3837-4131-a132-383138383339
DTSTAMP:20260420T180855Z
DTSTART:20260516T150000
DTEND:20260516T164500
LOCATION:Oichtental Arena (Sportplatzstraße 3\, 5151 Nußdorf)
SUMMARY:KM: SV Nußdorf/H. : USV Köstendorf
END:VEVENT
BEGIN:VEVENT
UID:62313331-3237-4135-b032-376264306431
DTSTAMP:20260420T180855Z
DTSTART:20260522T170000
DTEND:20260522T184500
LOCATION:Köstendorf Norbert-Loindl-Arena (Matthäus-Wieder-Straße 4\, 5203 K
 östendorf)
SUMMARY:KM: USV Köstendorf : 1. Oberalmer SV
END:VEVENT
BEGIN:VEVENT
UID:36313533-3462-4435-b336-613166636262
DTSTAMP:20260420T180855Z
DTSTART:20260530T170000
DTEND:20260530T184500
LOCATION:Plainfeld (Sportplatzweg 17\, 5325 Plainfeld)
SUMMARY:KM: USV Plainfeld : USV Köstendorf
END:VEVENT
BEGIN:VEVENT
UID:64313038-6333-4638-b039-663537663730
DTSTAMP:20260420T180855Z
DTSTART:20260607T170000
DTEND:20260607T184500
LOCATION:Köstendorf Norbert-Loindl-Arena (Matthäus-Wieder-Straße 4\, 5203 K
 östendorf)
SUMMARY:KM: USV Köstendorf : SK Strobl
END:VEVENT
BEGIN:VEVENT
UID:62366635-6333-4163-b831-323362313535
DTSTAMP:20260420T180855Z
DTSTART:20250808T203000
DTEND:20250808T221000
LOCATION:Köstendorf Norbert-Loindl-Arena (Matthäus-Wieder-Straße 4\, 5203 K
 östendorf)
SUMMARY:Res: USV Köstendorf Res : USK Hof Res
END:VEVENT
BEGIN:VEVENT
UID:32336666-6564-4132-b432-386462616265
DTSTAMP:20260420T180855Z
DTSTART:20250816T170000
DTEND:20250816T184000
LOCATION:Kostad Arena - Fuschl am See (Dorfstraße 43\, 5330 Fuschl)
SUMMARY:Res: USV Fuschl Res : USV Köstendorf Res
END:VEVENT
BEGIN:VEVENT
UID:39316662-3736-4634-a539-613734343136
DTSTAMP:20260420T180855Z
DTSTART:20250828T183000
DTEND:20250828T201000
LOCATION:Walserfeld (Schwarzenbergkaserne\, 5071 Wals)
SUMMARY:Res: Heeres SV Wals Res : USV Köstendorf Res
END:VEVENT
BEGIN:VEVENT
UID:38363432-3430-4564-a438-633462363835
DTSTAMP:20260420T180855Z
DTSTART:20250908T191500
DTEND:20250908T205500
LOCATION:Köstendorf Norbert-Loindl-Arena (Matthäus-Wieder-Straße 4\, 5203 K
 östendorf)
SUMMARY:Res: USV Köstendorf Res : USC Faistenau Res
END:VEVENT
BEGIN:VEVENT
UID:66343131-3564-4233-b732-623732643139
DTSTAMP:20260420T180855Z
DTSTART:20250914T133000
DTEND:20250914T151000
LOCATION:Koni Laimer Arena (Steinfeldstraße 11\, 5350 Abersee)
SUMMARY:Res: USC Abersee Res : USV Köstendorf Res
END:VEVENT
BEGIN:VEVENT
UID:33383135-6135-4733-b930-646333636136
DTSTAMP:20260420T180855Z
DTSTART:20250917T193000
DTEND:20250917T211000
LOCATION:Köstendorf Norbert-Loindl-Arena (Matthäus-Wieder-Straße 4\, 5203 K
 östendorf)
SUMMARY:Res: USV Köstendorf Res : USK St. Koloman Res
END:VEVENT
BEGIN:VEVENT
UID:35313161-3763-4730-b961-663562313366
DTSTAMP:20260420T180855Z
DTSTART:20250927T161500
DTEND:20250927T175500
LOCATION:Gneis - Walter Rembart Sportanlage (Sternhofweg 70\, 5020 Salzburg
 )
SUMMARY:Res: USK Gneis Res : USV Köstendorf Res
END:VEVENT
BEGIN:VEVENT
UID:31646536-3634-4536-b139-333862363062
DTSTAMP:20260420T180855Z
DTSTART:20251005T130000
DTEND:20251005T144000
LOCATION:Köstendorf Norbert-Loindl-Arena (Matthäus-Wieder-Straße 4\, 5203 K
 östendorf)
SUMMARY:Res: USV Köstendorf Res : USC fahr(T)raum Mattsee Res
END:VEVENT
BEGIN:VEVENT
UID:66653833-3965-4339-b364-626165336464
DTSTAMP:20260420T180855Z
DTSTART:20251010T203000
DTEND:20251010T221000
LOCATION:Köstendorf Norbert-Loindl-Arena (Matthäus-Wieder-Straße 4\, 5203 K
 östendorf)
SUMMARY:Res: USV Köstendorf Res : SV Nußdorf/H. Res
END:VEVENT
BEGIN:VEVENT
UID:34303065-3962-4633-a562-643061633365
DTSTAMP:20260420T180855Z
DTSTART:20251019T160000
DTEND:20251019T174000
LOCATION:Oberalm (Kahlspergstraße 14\, 5411 Oberalm)
SUMMARY:Res: 1. Oberalmer SV Res : USV Köstendorf Res
END:VEVENT
BEGIN:VEVENT
UID:38633766-3631-4661-b631-653964336431
DTSTAMP:20260420T180855Z
DTSTART:20251025T120000
DTEND:20251025T134000
LOCATION:Köstendorf Norbert-Loindl-Arena (Matthäus-Wieder-Straße 4\, 5203 K
 östendorf)
SUMMARY:Res: USV Köstendorf Res : USV Plainfeld Res
END:VEVENT
BEGIN:VEVENT
UID:65306532-6462-4530-b139-636237303062
DTSTAMP:20260420T180855Z
DTSTART:20251102T110000
DTEND:20251102T124000
LOCATION:Strobl (Nr. 286\, 5350 Strobl)
SUMMARY:Res: SK Strobl Res : USV Köstendorf Res
END:VEVENT
BEGIN:VEVENT
UID:66316133-6433-4565-a231-626139613731
DTSTAMP:20260420T180855Z
DTSTART:20251108T114500
DTEND:20251108T132500
LOCATION:Hof (Sportplatzstraße 15\, 5322 Hof)
SUMMARY:Res: USK Hof Res : USV Köstendorf Res
END:VEVENT
BEGIN:VEVENT
UID:64623532-6462-4535-b736-353430386464
DTSTAMP:20260420T180855Z
DTSTART:20260321T134500
DTEND:20260321T152500
LOCATION:Köstendorf Norbert-Loindl-Arena (Matthäus-Wieder-Straße 4\, 5203 K
 östendorf)
SUMMARY:Res: USV Köstendorf Res : USV Fuschl Res
END:VEVENT
BEGIN:VEVENT
UID:63396162-6362-4631-b161-643839653630
DTSTAMP:20260420T180855Z
DTSTART:20260327T203000
DTEND:20260327T221000
LOCATION:St. Koloman - Kunstrasen (Berneggweg 166\, 5423 St. Koloman)
SUMMARY:Res: USK St. Koloman Res : USV Köstendorf Res
END:VEVENT
BEGIN:VEVENT
UID:63613339-3334-4635-a232-643838333462
DTSTAMP:20260420T180855Z
DTSTART:20260403T203000
DTEND:20260403T221000
LOCATION:Köstendorf Norbert-Loindl-Arena (Matthäus-Wieder-Straße 4\, 5203 K
 östendorf)
SUMMARY:Res: USV Köstendorf Res : Heeres SV Wals Res
END:VEVENT
BEGIN:VEVENT
UID:63393337-3738-4065-a566-616531376463
DTSTAMP:20260420T180855Z
DTSTART:20260412T161500
DTEND:20260412T175500
LOCATION:Faistenau (Stegleitenstraße 20\, 5324 Faistenau)
SUMMARY:Res: USC Faistenau Res : USV Köstendorf Res
END:VEVENT
BEGIN:VEVENT
UID:64303135-6537-4332-b632-316338613162
DTSTAMP:20260420T180855Z
DTSTART:20260417T203000
DTEND:20260417T221000
LOCATION:Köstendorf Norbert-Loindl-Arena (Matthäus-Wieder-Straße 4\, 5203 K
 östendorf)
SUMMARY:Res: USV Köstendorf Res : USC Abersee Res
END:VEVENT
BEGIN:VEVENT
UID:39626536-3631-4761-a439-306533343430
DTSTAMP:20260420T180855Z
DTSTART:20260429T193000
DTEND:20260429T211000
LOCATION:Köstendorf Norbert-Loindl-Arena (Matthäus-Wieder-Straße 4\, 5203 K
 östendorf)
SUMMARY:Res: USV Köstendorf Res : USK Gneis Res
END:VEVENT
BEGIN:VEVENT
UID:31383063-3364-4365-b332-313761376332
DTSTAMP:20260420T180855Z
DTSTART:20260509T150000
DTEND:20260509T164000
LOCATION:Mattsee Seestadion (Münsterholzstraße 1\, 5163 Mattsee)
SUMMARY:Res: Abgesagt - USC fahr(T)raum Mattsee Res : USV Köstendorf Res
END:VEVENT
BEGIN:VEVENT
UID:30663035-6137-4465-b734-363162393138
DTSTAMP:20260420T180855Z
DTSTART:20260516T170000
DTEND:20260516T184000
LOCATION:Oichtental Arena (Sportplatzstraße 3\, 5151 Nußdorf)
SUMMARY:Res: SV Nußdorf/H. Res : USV Köstendorf Res
END:VEVENT
BEGIN:VEVENT
UID:64656431-3661-4431-a265-326138323063
DTSTAMP:20260420T180855Z
DTSTART:20260522T150000
DTEND:20260522T164000
LOCATION:Köstendorf Norbert-Loindl-Arena (Matthäus-Wieder-Straße 4\, 5203 K
 östendorf)
SUMMARY:Res: USV Köstendorf Res : 1. Oberalmer SV Res
END:VEVENT
BEGIN:VEVENT
UID:31613134-3931-4334-b364-663830666263
DTSTAMP:20260420T180855Z
DTSTART:20260530T150000
DTEND:20260530T164000
LOCATION:Plainfeld (Sportplatzweg 17\, 5325 Plainfeld)
SUMMARY:Res: USV Plainfeld Res : USV Köstendorf Res
END:VEVENT
BEGIN:VEVENT
UID:38383165-3661-4937-b764-396638356563
DTSTAMP:20260420T180855Z
DTSTART:20260607T150000
DTEND:20260607T164000
LOCATION:Köstendorf Norbert-Loindl-Arena (Matthäus-Wieder-Straße 4\, 5203 K
 östendorf)
SUMMARY:Res: USV Köstendorf Res : SK Strobl Res
END:VEVENT
BEGIN:VEVENT
UID:33643633-3338-4463-a565-623638366364
DTSTAMP:20260420T180855Z
DTSTART:20260425T093000
DTEND:20260425T102300
LOCATION:Köstendorf Norbert-Loindl-Arena (Matthäus-Wieder-Straße 4\, 5203 K
 östendorf)
SUMMARY:U10: USV Köstendorf U10 : USK Obertrum A U10
END:VEVENT
BEGIN:VEVENT
UID:65643531-3339-4131-a365-646131343563
DTSTAMP:20260420T180855Z
DTSTART:20260504T173000
DTEND:20260504T182300
LOCATION:Oberhofen (Sportplatzstraße 8\, 4894 Oberhofen)
SUMMARY:U10: ÖTSU Oberhofen U10 : USV Köstendorf U10
END:VEVENT
BEGIN:VEVENT
UID:30386664-3632-4238-b139-653462353762
DTSTAMP:20260420T180855Z
DTSTART:20260509T143000
DTEND:20260509T152300
LOCATION:RHC-Production-Arena (Dorf 121\, 5205 Schleedorf)
SUMMARY:U10: USV Köstendorf U10 : USV St. Georgen A U10
END:VEVENT
BEGIN:VEVENT
UID:63626231-3665-4437-a165-313865386565
DTSTAMP:20260420T180855Z
DTSTART:20260516T110000
DTEND:20260516T115300
LOCATION:Neumarkt Rieger Arena - Kunstrasen (Sportplatzstraße 25\, 5202 Neu
 markt)
SUMMARY:U10: TSV Neumarkt U10 : USV Köstendorf U10
END:VEVENT
BEGIN:VEVENT
UID:37653766-6530-4037-b066-646130383733
DTSTAMP:20260420T180855Z
DTSTART:20260531T000000
DTEND:20260531T005300
LOCATION:Köstendorf Norbert-Loindl-Arena (Matthäus-Wieder-Straße 4\, 5203 K
 östendorf)
SUMMARY:U10: USV Köstendorf U10 : USV Lamprechtshausen U10
END:VEVENT
BEGIN:VEVENT
UID:62356631-3133-4333-b461-656533623431
DTSTAMP:20260420T180855Z
DTSTART:20260607T110000
DTEND:20260607T115300
LOCATION:Straßwalchen Nevoga-Arena (Sportplatzstraße 20\, 5204 Straßwalchen
 )
SUMMARY:U10: SV Straßwalchen A U10 : USV Köstendorf U10
END:VEVENT
BEGIN:VEVENT
UID:62336135-3863-4266-a333-373338663238
DTSTAMP:20260420T180855Z
DTSTART:20260614T000000
DTEND:20260614T005300
LOCATION:Köstendorf Norbert-Loindl-Arena (Matthäus-Wieder-Straße 4\, 5203 K
 östendorf)
SUMMARY:U10: USV Köstendorf U10 : SV teampool Seekirchen B U10
END:VEVENT
BEGIN:VEVENT
UID:38333638-3165-4865-b034-303566353030
DTSTAMP:20260420T180855Z
DTSTART:20260426T000000
DTEND:20260426T010500
LOCATION:Köstendorf Norbert-Loindl-Arena (Matthäus-Wieder-Straße 4\, 5203 K
 östendorf)
SUMMARY:U12: Abgesagt - USV Köstendorf U12 : ÖTSU Oberhofen U12
END:VEVENT
BEGIN:VEVENT
UID:62313936-3734-4338-b462-313030313635
DTSTAMP:20260420T180855Z
DTSTART:20260430T180000
DTEND:20260430T190500
LOCATION:Mattsee Seestadion (Münsterholzstraße 1\, 5163 Mattsee)
SUMMARY:U12: USC fahr(T)raum Mattsee U12 : USV Köstendorf U12
END:VEVENT
BEGIN:VEVENT
UID:30366565-3939-4365-a461-373037666537
DTSTAMP:20260420T180855Z
DTSTART:20260509T000000
DTEND:20260509T010500
LOCATION:Köstendorf Norbert-Loindl-Arena (Matthäus-Wieder-Straße 4\, 5203 K
 östendorf)
SUMMARY:U12: USV Köstendorf U12 : SK Strobl U12
END:VEVENT
BEGIN:VEVENT
UID:65643839-3933-4339-a433-353663626262
DTSTAMP:20260420T180855Z
DTSTART:20260517T000000
DTEND:20260517T010500
LOCATION:Koni Laimer Arena (Steinfeldstraße 11\, 5350 Abersee)
SUMMARY:U12: USC Abersee U12 : USV Köstendorf U12
END:VEVENT
BEGIN:VEVENT
UID:30366361-3361-4630-b062-663565336431
DTSTAMP:20260420T180855Z
DTSTART:20260531T110000
DTEND:20260531T120500
LOCATION:Köstendorf Norbert-Loindl-Arena (Matthäus-Wieder-Straße 4\, 5203 K
 östendorf)
SUMMARY:U12: USV Köstendorf U12 : SV teampool Seekirchen A U12 A
END:VEVENT
BEGIN:VEVENT
UID:36653564-3534-4434-a534-636565363262
DTSTAMP:20260420T180855Z
DTSTART:20260607T110000
DTEND:20260607T120500
LOCATION:Köstendorf Norbert-Loindl-Arena (Matthäus-Wieder-Straße 4\, 5203 K
 östendorf)
SUMMARY:U12: USV Köstendorf U12 : USK Hof U12
END:VEVENT
BEGIN:VEVENT
UID:33663234-6635-4332-b438-353030613739
DTSTAMP:20260420T180855Z
DTSTART:20260614T000000
DTEND:20260614T010500
LOCATION:Michaelbeuern (Vorau 100\, 5152 Michaelbeuern)
SUMMARY:U12: USV Michaelbeuern U12 : USV Köstendorf U12
END:VEVENT
BEGIN:VEVENT
UID:63303537-6435-4762-b534-626363306336
DTSTAMP:20260420T180855Z
DTSTART:20260426T124500
DTEND:20260426T141000
LOCATION:Koppl (Schlagstraße 17\, 5321 Koppl)
SUMMARY:U13: USV Koppl U13 : USV Köstendorf U13
END:VEVENT
BEGIN:VEVENT
UID:38353266-3065-4833-a231-346130326536
DTSTAMP:20260420T180855Z
DTSTART:20260429T184500
DTEND:20260429T201000
LOCATION:RHC-Production-Arena (Dorf 121\, 5205 Schleedorf)
SUMMARY:U13: USV Köstendorf U13 : SV Straßwalchen U13
END:VEVENT
BEGIN:VEVENT
UID:65656462-6335-4632-b765-643734623338
DTSTAMP:20260420T180855Z
DTSTART:20260509T130000
DTEND:20260509T142500
LOCATION:Koni Laimer Arena (Steinfeldstraße 11\, 5350 Abersee)
SUMMARY:U13: USC Abersee U13 : USV Köstendorf U13
END:VEVENT
BEGIN:VEVENT
UID:33623431-3362-4232-b730-653430373732
DTSTAMP:20260420T180855Z
DTSTART:20260514T113000
DTEND:20260514T125500
LOCATION:Stadion Grödig (Prötschhofstraße 26\, 5082 Grödig)
SUMMARY:U13: SV Grödig B U13 B : USV Köstendorf U13
END:VEVENT
BEGIN:VEVENT
UID:34306264-6531-4236-b961-396531323666
DTSTAMP:20260420T180855Z
DTSTART:20260530T100000
DTEND:20260530T112500
LOCATION:Köstendorf Norbert-Loindl-Arena (Matthäus-Wieder-Straße 4\, 5203 K
 östendorf)
SUMMARY:U13: USV Köstendorf U13 : USK Maximarkt Anif A U13 A
END:VEVENT
BEGIN:VEVENT
UID:35343332-3664-4535-b638-376233646534
DTSTAMP:20260420T180855Z
DTSTART:20260606T191500
DTEND:20260606T204000
LOCATION:Elixhausen (Schulweg\, 5161 Elixhausen)
SUMMARY:U13: USV Elixhausen U13 : USV Köstendorf U13
END:VEVENT
BEGIN:VEVENT
UID:62616238-3735-4035-a563-653837313931
DTSTAMP:20260420T180855Z
DTSTART:20260613T170000
DTEND:20260613T182500
LOCATION:RHC-Production-Arena (Dorf 121\, 5205 Schleedorf)
SUMMARY:U13: USV Köstendorf U13 : SG Hallein/Oberalm U13
END:VEVENT
BEGIN:VEVENT
UID:33373139-3663-4734-b265-613337393562
DTSTAMP:20260420T180855Z
DTSTART:20250814T160000
DTEND:20250814T220000
LOCATION:Köstendorf PR-Link Arena
SUMMARY:Senioren: Johann Lechner Turnier
END:VEVENT
BEGIN:VEVENT
UID:63613036-3564-4233-b836-333461333436
DTSTAMP:20260420T180855Z
DTSTART:20250822T190000
DTEND:20250822T204500
LOCATION:Tiefgraben
SUMMARY:Senioren: Union Tiefgraben : USV Köstendorf/Schleedorf
END:VEVENT
BEGIN:VEVENT
UID:36383437-3565-4431-a535-363263336430
DTSTAMP:20260420T180855Z
DTSTART:20250909T183000
DTEND:20250909T201500
LOCATION:Köstendorf PR-Link Arena
SUMMARY:Senioren: USV Köstendorf/Schleedorf : MSV Voglhub
END:VEVENT
BEGIN:VEVENT
UID:33363132-3236-4438-a534-616637383664
DTSTAMP:20260420T180855Z
DTSTART;VALUE=DATE:20250926
DTEND;VALUE=DATE:20250927
LOCATION:Seekirchen
SUMMARY:Senioren: Turnier in Seekirchen
END:VEVENT
BEGIN:VEVENT
UID:63653436-3436-4937-b435-343831646363
DTSTAMP:20260420T180855Z
DTSTART:20251003T190000
DTEND:20251003T204500
LOCATION:Köstendorf PR-Link Arena
SUMMARY:Senioren: USV Köstendorf/Schleedorf : Michaelbeuern
END:VEVENT
BEGIN:VEVENT
UID:30623966-6564-4039-b834-643439303462
DTSTAMP:20260420T180855Z
DTSTART;VALUE=DATE:20251010
DTEND;VALUE=DATE:20251011
LOCATION:Obertrum
SUMMARY:Senioren: USK Obertrum : USV Köstendorf/Schleedorf
END:VEVENT
BEGIN:VEVENT
UID:63323961-3161-4734-b737-353065366261
DTSTAMP:20260420T180855Z
DTSTART:20251014T190000
DTEND:20251014T210000
LOCATION:Köstendorf Norbert-Loindl-Arena
SUMMARY:Senioren: USV Köstendorf/Schleedorf : Reserve
END:VEVENT
END:VCALENDAR
